BEGIN:VCALENDAR
VERSION:2.0
PRODID:-//Squarespace Inc/Squarespace 6//v6//EN
BEGIN:VEVENT
UID:5d6885dab98ae80001405d7c@squarespace.com
DTSTAMP:20190930T012939Z
DTSTART:20191121T220000Z
DTEND:20191122T050000Z
SUMMARY:Vision 2020 Business Summit
GEO:-38.019148;145.301304
LOCATION:Bunjil Place\, 2 Patrick Northeast Drive\, Narre Warren\, VIC\, 38
 05\, Australia
END:VEVENT
END:VCALENDAR
