BEGIN:VCALENDAR
VERSION:2.0
PRODID:-//Squarespace Inc/Squarespace 6//v6//EN
BEGIN:VEVENT
UID:5d13f309496c340001342ebd@squarespace.com
DTSTAMP:20190930T000119Z
DTSTART:20190724T074500Z
DTEND:20190724T093000Z
SUMMARY:Unleash you full potential 
GEO:-38.023473;145.313744
LOCATION:Waterman Business Centre\, Level 1\, 64 Victor Crescent\, Narre Wa
 rren\, VIC\, 3805\, Australia
END:VEVENT
END:VCALENDAR
